Workbook

Sheet Registered Shooters
F1: GISA Clay Target Shoot Squadding and Scores
A2: Not shooting? | D2: 41888 | O2: Tom Lowe Shooting Grounds
A3: SC | B3: SK | C3: TR | D3: School | E3: First | F3: Last | G3: Grade | H3: Gender | I3: Division | K3: Skeet | L3: Sporting | M3: Trap | N3: Individual Total | O3: Place
A4: N | B4: Y | C4: Y | D4: Woodward Academy | E4: Andrew | F4: Gulley | G4: 12 | H4: M | I4: V | K4: =Skeet!K4 -> 66 | L4: =Sporting!G4 -> 0 | M4: =Trap!K4 -> 40 | N4: =SUM(K4:M4) -> 106 | S4: Put a N in the correct column (a-c) if a shooter is not participating in an event
A5: N | B5: Y | C5: Y | D5: Woodward Academy | E5: Hamilton | F5: Hooper | G5: 12 | H5: M | I5: V | K5: =Skeet!K5 -> 77 | L5: =Sporting!G5 -> 0 | M5: =Trap!K5 -> 67 | N5: =SUM(K5:M5) -> 144
A6: N | B6: Y | C6: Y | D6: Woodward Academy | E6: Drew | F6: Stull | G6: 12 | H6: M | I6: V | K6: =Skeet!K6 -> 76 | L6: =Sporting!G6 -> 0 | M6: =Trap!K6 -> 49 | N6: =SUM(K6:M6) -> 125 | S6: Typing Schools, Names, and grades on this sheet will automatically
A7: N | B7: Y | C7: Y | D7: Woodward Academy | E7: Drew | F7: Sullivan | G7: 12 | H7: M | I7: V | K7: =Skeet!K7 -> 90 | L7: =Sporting!G7 -> 0 | M7: =Trap!K7 -> 50 | N7: =SUM(K7:M7) -> 140 | T7: put them on all other score sheets
A8: N | B8: Y | C8: Y | D8: Woodward Academy | E8: Wesley | F8: Chastain | G8: 12 | H8: M | I8: V | K8: =Skeet!K8 -> 80 | L8: =Sporting!G8 -> 0 | M8: =Trap!K8 -> 78 | N8: =SUM(K8:M8) -> 158 | S8: Copy school,names, and grade to Squadding sheet
A9: N | B9: Y | C9: Y | D9: Woodward Academy | E9: Catherine | F9: LaBriola | G9: 12 | H9: F | I9: V | K9: =Skeet!K9 -> 82 | L9: =Sporting!G9 -> 0 | M9: =Trap!K9 -> 65 | N9: =SUM(K9:M9) -> 147
A10: N | B10: Y | C10: Y | D10: Woodward Academy | E10: Kyle | F10: Cooke | G10: 11 | H10: M | I10: V | K10: =Skeet!K10 -> 75 | L10: =Sporting!G10 -> 0 | M10: =Trap!K10 -> 33 | N10: =SUM(K10:M10) -> 108 | S10: Do NOT delete or insert rows into this spreadsheet!
A11: N | B11: Y | C11: Y | D11: Woodward Academy | E11: Peter | F11: Droogmans | G11: 11 | H11: M | I11: V | K11: =Skeet!K11 -> 88 | L11: =Sporting!G11 -> 0 | M11: =Trap!K11 -> 92 | N11: =SUM(K11:M11) -> 180 | S11: If a shooter(s) needs to be inserted, you may highlight columns A-I only on EVERY row with names below where the new shooter(s) will be added
A12: N | B12: Y | C12: Y | D12: Woodward Academy | E12: Scott | F12: Simpson | G12: 11 | H12: M | I12: V | K12: =Skeet!K12 -> 80 | L12: =Sporting!G12 -> 0 | M12: =Trap!K12 -> 83 | N12: =SUM(K12:M12) -> 163 | T12: Then press cntrl-X
A13: N | B13: Y | C13: Y | D13: Woodward Academy | E13: Chad | F13: Baldwin | G13: 11 | H13: M | I13: V | K13: =Skeet!K13 -> 77 | L13: =Sporting!G13 -> 0 | M13: =Trap!K13 -> 60 | N13: =SUM(K13:M13) -> 137 | T13: Move your curser to column A of the row where the names are to be moved to
A14: N | B14: Y | C14: Y | D14: Woodward Academy | E14: Carley | F14: Clapes | G14: 11 | H14: F | I14: V | K14: =Skeet!K14 -> 41 | L14: =Sporting!G14 -> 0 | M14: =Trap!K14 -> 46 | N14: =SUM(K14:M14) -> 87 | T14: Press cntrl-V to move everyone down leaving that row(s) now blank
A15: N | B15: Y | C15: Y | D15: Woodward Academy | E15: Robert | F15: Brush | G15: 11 | H15: M | I15: V | K15: =Skeet!K15 -> 87 | L15: =Sporting!G15 -> 0 | M15: =Trap!K15 -> 77 | N15: =SUM(K15:M15) -> 164 | S15: If a shooter(s) needs to be deleted, you may highlight columns A-I for that shooter and press Delete
A16: N | B16: Y | C16: Y | D16: Woodward Academy | E16: Lilly | F16: Smith | G16: 10 | H16: F | I16: V | K16: =Skeet!K16 -> 40 | L16: =Sporting!G16 -> 0 | M16: =Trap!K16 -> 42 | N16: =SUM(K16:M16) -> 82 | T16: To eliminate the now blank row:
A17: N | B17: Y | C17: Y | D17: Woodward Academy | E17: Valdon | F17: Smith | G17: 10 | H17: M | I17: V | K17: =Skeet!K17 -> 74 | L17: =Sporting!G17 -> 0 | M17: =Trap!K17 -> 75 | N17: =SUM(K17:M17) -> 149 | T17: Highlight columns A-I only of EVERY row below the blank row with names on them and press cntrl-X
A18: N | B18: Y | C18: Y | D18: Woodward Academy | E18: Carter | F18: Haydon | G18: 10 | H18: M | I18: V | K18: =Skeet!K18 -> 43 | L18: =Sporting!G18 -> 0 | M18: =Trap!K18 -> 84 | N18: =SUM(K18:M18) -> 127 | T18: Move your curser to column A of the blank row
A19: N | B19: Y | C19: Y | D19: Woodward Academy | E19: Chase | F19: Calhoun | G19: 10 | H19: M | I19: V | K19: =Skeet!K19 -> 65 | L19: =Sporting!G19 -> 0 | M19: =Trap!K19 -> 56 | N19: =SUM(K19:M19) -> 121 | T19: Then press cntrl-V to move everyone up and eliminate the blank row
A20: N | B20: Y | C20: Y | D20: Woodward Academy | E20: Hannah | F20: Chastain | G20: 10 | H20: F | I20: V | K20: =Skeet!K20 -> 68 | L20: =Sporting!G20 -> 0 | M20: =Trap!K20 -> 60 | N20: =SUM(K20:M20) -> 128
A21: N | B21: Y | C21: Y | D21: Woodward Academy | E21: Meredith | F21: Von Kleydorff | G21: 10 | H21: F | I21: V | K21: =Skeet!K21 -> 46 | L21: =Sporting!G21 -> 0 | M21: =Trap!K21 -> 52 | N21: =SUM(K21:M21) -> 98 | S21: Do Not enter scores into this sheet. | W21: Any discipline not shot will contain 0s
A22: N | B22: Y | C22: Y | D22: Woodward Academy | E22: Ethan | F22: Cornelius | G22: 9 | H22: M | I22: V | K22: =Skeet!K22 -> 67 | L22: =Sporting!G22 -> 0 | M22: =Trap!K22 -> 73 | N22: =SUM(K22:M22) -> 140 | T22: Scores entered on individual sheets will automatically show here
A23: N | B23: Y | C23: Y | D23: Woodward Academy | E23: Finn | F23: Gosch | G23: 9 | H23: M | I23: V | K23: =Skeet!K23 -> 64 | L23: =Sporting!G23 -> 0 | M23: =Trap!K23 -> 68 | N23: =SUM(K23:M23) -> 132
A24: N | B24: Y | C24: Y | D24: Woodward Academy | E24: Cate | F24: Droogmans | G24: 9 | H24: F | I24: V | K24: =Skeet!K24 -> 56 | L24: =Sporting!G24 -> 0 | M24: =Trap!K24 -> 42 | N24: =SUM(K24:M24) -> 98 | S24: Do NOT sort this sheet
A25: N | B25: Y | C25: Y | D25: Woodward Academy | E25: August | F25: Stowers | G25: 9 | H25: M | I25: V | K25: =Skeet!K25 -> 59 | L25: =Sporting!G25 -> 0 | M25: =Trap!K25 -> 53 | N25: =SUM(K25:M25) -> 112 | T25: Copy columns D-O
A26: N | B26: Y | C26: Y | D26: Griffin Christian | E26: Parker | F26: Shultz | G26: 9 | H26: M | I26: V | K26: =Skeet!K26 -> 68 | L26: =Sporting!G26 -> 0 | M26: =Trap!K26 -> 66 | N26: =SUM(K26:M26) -> 134 | T26: Do Paste Values to paste it onto EACH of the by Tab sheets
A27: N | B27: Y | C27: Y | D27: Griffin Christian | E27: Ryan | F27: Oster | G27: 9 | H27: M | I27: V | K27: =Skeet!K27 -> 68 | L27: =Sporting!G27 -> 0 | M27: =Trap!K27 -> 64 | N27: =SUM(K27:M27) -> 132
A28: N | B28: Y | C28: Y | D28: Griffin Christian | E28: Colin | F28: Ogilvie | G28: 10 | H28: M | I28: V | K28: =Skeet!K28 -> 61 | L28: =Sporting!G28 -> 0 | M28: =Trap!K28 -> 69 | N28: =SUM(K28:M28) -> 130 | S28: Save as pdf and Only put all the Sheets that start with by in the pdf file
A29: N | B29: Y | C29: Y | D29: Griffin Christian | E29: Levi | F29: Moore | G29: 9 | H29: M | I29: V | K29: =Skeet!K29 -> 70 | L29: =Sporting!G29 -> 0 | M29: =Trap!K29 -> 63 | N29: =SUM(K29:M29) -> 133 | T29: to send final scores as email or post online
A30: N | B30: Y | C30: Y | D30: Strong Rock | E30: Chase | F30: Rosich | G30: 8 | H30: M | I30: JV | K30: =Skeet!K30 -> 74 | L30: =Sporting!G30 -> 0 | M30: =Trap!K30 -> 39 | N30: =SUM(K30:M30) -> 113
A31: N | B31: Y | C31: Y | D31: Strong Rock | E31: Reece | F31: Howell | G31: 8 | H31: M | I31: JV | K31: =Skeet!K31 -> 32 | L31: =Sporting!G31 -> 0 | M31: =Trap!K31 -> 19 | N31: =SUM(K31:M31) -> 51
A32: N | B32: Y | C32: Y | D32: Strong Rock | E32: Hailey | F32: Brooks | G32: 10 | H32: F | I32: V | K32: =Skeet!K32 -> 39 | L32: =Sporting!G32 -> 0 | M32: =Trap!K32 -> 71 | N32: =SUM(K32:M32) -> 110 | S32: This spreadsheet is set up for a maximum of 252 shooters.
A33: N | B33: Y | C33: Y | D33: Strong Rock | E33: Ryan | F33: Wood | G33: 7 | H33: M | I33: JV | K33: =Skeet!K33 -> 30 | L33: =Sporting!G33 -> 0 | M33: =Trap!K33 -> 52 | N33: =SUM(K33:M33) -> 82 | S33: If more than that are needed, the spreadsheet must be modified!
A34: N | B34: Y | C34: Y | D34: Strong Rock | E34: Hunter | F34: Rosich | G34: 10 | H34: M | I34: V | K34: =Skeet!K34 -> 71 | L34: =Sporting!G34 -> 0 | M34: =Trap!K34 -> 68 | N34: =SUM(K34:M34) -> 139
A35: N | B35: Y | C35: Y | D35: Strong Rock | E35: Ryan | F35: Abrahams | G35: 10 | H35: M | I35: V | K35: =Skeet!K35 -> 86 | L35: =Sporting!G35 -> 0 | M35: =Trap!K35 -> 55 | N35: =SUM(K35:M35) -> 141
A36: N | B36: Y | C36: Y | D36: Strong Rock | E36: Mason | F36: Morgan | G36: 8 | H36: M | I36: JV | K36: =Skeet!K36 -> 45 | L36: =Sporting!G36 -> 0 | M36: =Trap!K36 -> 50 | N36: =SUM(K36:M36) -> 95
A37: N | B37: Y | C37: Y | D37: Strong Rock | E37: Cade | F37: Howell | G37: 8 | H37: M | I37: JV | K37: =Skeet!K37 -> 39 | L37: =Sporting!G37 -> 0 | M37: =Trap!K37 -> 34 | N37: =SUM(K37:M37) -> 73
K38: =Skeet!K38 -> 0 | L38: =Sporting!G38 -> 0 | M38: =Trap!K38 -> 0 | N38: =SUM(K38:M38) -> 0
K39: =Skeet!K39 -> 0 | L39: =Sporting!G39 -> 0 | M39: =Trap!K39 -> 0 | N39: =SUM(K39:M39) -> 0
K40: =Skeet!K40 -> 0 | L40: =Sporting!G40 -> 0 | M40: =Trap!K40 -> 0 | N40: =SUM(K40:M40) -> 0
...

Sheet Skeet
E1: Skeet Scores
A2: ='Registered Shooters'!$D$2 -> 41888 | L2: ='Registered Shooters'!$O$2 -> Tom Lowe Shooting Grounds
A3: ='Registered Shooters'!D3 -> School | B3: ='Registered Shooters'!E3 -> First | C3: ='Registered Shooters'!F3 -> Last | D3: ='Registered Shooters'!G3 -> Grade | E3: ='Registered Shooters'!H3 -> Gender | F3: ='Registered Shooters'!I3 -> Division | G3: Round1 | H3: Round2 | I3: Round3 | J3: Round4 | K3: Total | L3: Place
A4: ='Registered Shooters'!D4 -> Woodward Academy | B4: ='Registered Shooters'!E4 -> Andrew | C4: ='Registered Shooters'!F4 -> Gulley | D4: ='Registered Shooters'!G4 -> 12 | E4: ='Registered Shooters'!H4 -> M | F4: ='Registered Shooters'!I4 -> V | G4: 19 | H4: 15 | I4: 16 | J4: 16 | K4: =SUM(G4:J4) -> 66 | P4: Do Not enter A-F, automatically populated from Registered shooters sheet
A5: ='Registered Shooters'!D5 -> Woodward Academy | B5: ='Registered Shooters'!E5 -> Hamilton | C5: ='Registered Shooters'!F5 -> Hooper | D5: ='Registered Shooters'!G5 -> 12 | E5: ='Registered Shooters'!H5 -> M | F5: ='Registered Shooters'!I5 -> V | G5: 16 | H5: 19 | I5: 21 | J5: 21 | K5: =SUM(G5:J5) -> 77
A6: ='Registered Shooters'!D6 -> Woodward Academy | B6: ='Registered Shooters'!E6 -> Drew | C6: ='Registered Shooters'!F6 -> Stull | D6: ='Registered Shooters'!G6 -> 12 | E6: ='Registered Shooters'!H6 -> M | F6: ='Registered Shooters'!I6 -> V | G6: 21 | H6: 19 | I6: 19 | J6: 17 | K6: =SUM(G6:J6) -> 76 | P6: If only shooting 50, leave Rounds 3 & 4 blanks
A7: ='Registered Shooters'!D7 -> Woodward Academy | B7: ='Registered Shooters'!E7 -> Drew | C7: ='Registered Shooters'!F7 -> Sullivan | D7: ='Registered Shooters'!G7 -> 12 | E7: ='Registered Shooters'!H7 -> M | F7: ='Registered Shooters'!I7 -> V | G7: 22 | H7: 24 | I7: 22 | J7: 22 | K7: =SUM(G7:J7) -> 90
A8: ='Registered Shooters'!D8 -> Woodward Academy | B8: ='Registered Shooters'!E8 -> Wesley | C8: ='Registered Shooters'!F8 -> Chastain | D8: ='Registered Shooters'!G8 -> 12 | E8: ='Registered Shooters'!H8 -> M | F8: ='Registered Shooters'!I8 -> V | G8: 18 | H8: 20 | I8: 21 | J8: 21 | K8: =SUM(G8:J8) -> 80 | P8: Do NOT sort this sheet
A9: ='Registered Shooters'!D9 -> Woodward Academy | B9: ='Registered Shooters'!E9 -> Catherine | C9: ='Registered Shooters'!F9 -> LaBriola | D9: ='Registered Shooters'!G9 -> 12 | E9: ='Registered Shooters'!H9 -> F | F9: ='Registered Shooters'!I9 -> V | G9: 21 | H9: 19 | I9: 19 | J9: 23 | K9: =SUM(G9:J9) -> 82 | P9: Follow instructions on by Skeet Tab
A10: ='Registered Shooters'!D10 -> Woodward Academy | B10: ='Registered Shooters'!E10 -> Kyle | C10: ='Registered Shooters'!F10 -> Cooke | D10: ='Registered Shooters'!G10 -> 11 | E10: ='Registered Shooters'!H10 -> M | F10: ='Registered Shooters'!I10 -> V | G10: 20 | H10: 18 | I10: 18 | J10: 19 | K10: =SUM(G10:J10) -> 75
A11: ='Registered Shooters'!D11 -> Woodward Academy | B11: ='Registered Shooters'!E11 -> Peter | C11: ='Registered Shooters'!F11 -> Droogmans | D11: ='Registered Shooters'!G11 -> 11 | E11: ='Registered Shooters'!H11 -> M | F11: ='Registered Shooters'!I11 -> V | G11: 23 | H11: 21 | I11: 22 | J11: 22 | K11: =SUM(G11:J11) -> 88
A12: ='Registered Shooters'!D12 -> Woodward Academy | B12: ='Registered Shooters'!E12 -> Scott | C12: ='Registered Shooters'!F12 -> Simpson | D12: ='Registered Shooters'!G12 -> 11 | E12: ='Registered Shooters'!H12 -> M | F12: ='Registered Shooters'!I12 -> V | G12: 19 | H12: 22 | I12: 17 | J12: 22 | K12: =SUM(G12:J12) -> 80
A13: ='Registered Shooters'!D13 -> Woodward Academy | B13: ='Registered Shooters'!E13 -> Chad | C13: ='Registered Shooters'!F13 -> Baldwin | D13: ='Registered Shooters'!G13 -> 11 | E13: ='Registered Shooters'!H13 -> M | F13: ='Registered Shooters'!I13 -> V | G13: 20 | H13: 21 | I13: 19 | J13: 17 | K13: =SUM(G13:J13) -> 77
A14: ='Registered Shooters'!D14 -> Woodward Academy | B14: ='Registered Shooters'!E14 -> Carley | C14: ='Registered Shooters'!F14 -> Clapes | D14: ='Registered Shooters'!G14 -> 11 | E14: ='Registered Shooters'!H14 -> F | F14: ='Registered Shooters'!I14 -> V | G14: 7 | H14: 11 | I14: 11 | J14: 12 | K14: =SUM(G14:J14) -> 41
A15: ='Registered Shooters'!D15 -> Woodward Academy | B15: ='Registered Shooters'!E15 -> Robert | C15: ='Registered Shooters'!F15 -> Brush | D15: ='Registered Shooters'!G15 -> 11 | E15: ='Registered Shooters'!H15 -> M | F15: ='Registered Shooters'!I15 -> V | G15: 18 | H15: 24 | I15: 23 | J15: 22 | K15: =SUM(G15:J15) -> 87
A16: ='Registered Shooters'!D16 -> Woodward Academy | B16: ='Registered Shooters'!E16 -> Lilly | C16: ='Registered Shooters'!F16 -> Smith | D16: ='Registered Shooters'!G16 -> 10 | E16: ='Registered Shooters'!H16 -> F | F16: ='Registered Shooters'!I16 -> V | G16: 10 | H16: 10 | I16: 9 | J16: 11 | K16: =SUM(G16:J16) -> 40
A17: ='Registered Shooters'!D17 -> Woodward Academy | B17: ='Registered Shooters'!E17 -> Valdon | C17: ='Registered Shooters'!F17 -> Smith | D17: ='Registered Shooters'!G17 -> 10 | E17: ='Registered Shooters'!H17 -> M | F17: ='Registered Shooters'!I17 -> V | G17: 18 | H17: 19 | I17: 18 | J17: 19 | K17: =SUM(G17:J17) -> 74
A18: ='Registered Shooters'!D18 -> Woodward Academy | B18: ='Registered Shooters'!E18 -> Carter | C18: ='Registered Shooters'!F18 -> Haydon | D18: ='Registered Shooters'!G18 -> 10 | E18: ='Registered Shooters'!H18 -> M | F18: ='Registered Shooters'!I18 -> V | G18: 9 | H18: 11 | I18: 14 | J18: 9 | K18: =SUM(G18:J18) -> 43
A19: ='Registered Shooters'!D19 -> Woodward Academy | B19: ='Registered Shooters'!E19 -> Chase | C19: ='Registered Shooters'!F19 -> Calhoun | D19: ='Registered Shooters'!G19 -> 10 | E19: ='Registered Shooters'!H19 -> M | F19: ='Registered Shooters'!I19 -> V | G19: 17 | H19: 14 | I19: 14 | J19: 20 | K19: =SUM(G19:J19) -> 65
A20: ='Registered Shooters'!D20 -> Woodward Academy | B20: ='Registered Shooters'!E20 -> Hannah | C20: ='Registered Shooters'!F20 -> Chastain | D20: ='Registered Shooters'!G20 -> 10 | E20: ='Registered Shooters'!H20 -> F | F20: ='Registered Shooters'!I20 -> V | G20: 20 | H20: 19 | I20: 12 | J20: 17 | K20: =SUM(G20:J20) -> 68
A21: ='Registered Shooters'!D21 -> Woodward Academy | B21: ='Registered Shooters'!E21 -> Meredith | C21: ='Registered Shooters'!F21 -> Von Kleydorff | D21: ='Registered Shooters'!G21 -> 10 | E21: ='Registered Shooters'!H21 -> F | F21: ='Registered Shooters'!I21 -> V | G21: 8 | H21: 11 | I21: 14 | J21: 13 | K21: =SUM(G21:J21) -> 46
... A37: ='Registered Shooters'!D37 -> Strong Rock | B37: ='Registered Shooters'!E37 -> Cade | C37: ='Registered Shooters'!F37 -> Howell | D37: ='Registered Shooters'!G37 -> 8 | E37: ='Registered Shooters'!H37 -> M | F37: ='Registered Shooters'!I37 -> JV | G37: 13 | H37: 6 | I37: 11 | J37: 9 | K37: =SUM(G37:J37) -> 39
A38: ='Registered Shooters'!D38 | B38: ='Registered Shooters'!E38 | C38: ='Registered Shooters'!F38 | D38: ='Registered Shooters'!G38 | E38: ='Registered Shooters'!H38 | F38: ='Registered Shooters'!I38 | K38: =SUM(G38:J38) -> 0
A39: ='Registered Shooters'!D39 | B39: ='Registered Shooters'!E39 | C39: ='Registered Shooters'!F39 | D39: ='Registered Shooters'!G39 | E39: ='Registered Shooters'!H39 | F39: ='Registered Shooters'!I39 | K39: =SUM(G39:J39) -> 0
A40: ='Registered Shooters'!D40 | B40: ='Registered Shooters'!E40 | C40: ='Registered Shooters'!F40 | D40: ='Registered Shooters'!G40 | E40: ='Registered Shooters'!H40 | F40: ='Registered Shooters'!I40 | K40: =SUM(G40:J40) -> 0
A41: ='Registered Shooters'!D41 | B41: ='Registered Shooters'!E41 | C41: ='Registered Shooters'!F41 | D41: ='Registered Shooters'!G41 | E41: ='Registered Shooters'!H41 | F41: ='Registered Shooters'!I41 | K41: =SUM(G41:J41) -> 0
A42: ='Registered Shooters'!D42 | B42: ='Registered Shooters'!E42 | C42: ='Registered Shooters'!F42 | D42: ='Registered Shooters'!G42 | E42: ='Registered Shooters'!H42 | F42: ='Registered Shooters'!I42 | K42: =SUM(G42:J42) -> 0
A43: ='Registered Shooters'!D43 | B43: ='Registered Shooters'!E43 | C43: ='Registered Shooters'!F43 | D43: ='Registered Shooters'!G43 | E43: ='Registered Shooters'!H43 | F43: ='Registered Shooters'!I43 | K43: =SUM(G43:J43) -> 0
A44: ='Registered Shooters'!D44 | B44: ='Registered Shooters'!E44 | C44: ='Registered Shooters'!F44 | D44: ='Registered Shooters'!G44 | E44: ='Registered Shooters'!H44 | F44: ='Registered Shooters'!I44 | K44: =SUM(G44:J44) -> 0
A45: ='Registered Shooters'!D45 | B45: ='Registered Shooters'!E45 | C45: ='Registered Shooters'!F45 | D45: ='Registered Shooters'!G45 | E45: ='Registered Shooters'!H45 | F45: ='Registered Shooters'!I45 | K45: =SUM(G45:J45) -> 0
A46: ='Registered Shooters'!D46 | B46: ='Registered Shooters'!E46 | C46: ='Registered Shooters'!F46 | D46: ='Registered Shooters'!G46 | E46: ='Registered Shooters'!H46 | F46: ='Registered Shooters'!I46 | K46: =SUM(G46:J46) -> 0
A47: ='Registered Shooters'!D47 | B47: ='Registered Shooters'!E47 | C47: ='Registered Shooters'!F47 | D47: ='Registered Shooters'!G47 | E47: ='Registered Shooters'!H47 | F47: ='Registered Shooters'!I47 | K47: =SUM(G47:J47) -> 0
A48: ='Registered Shooters'!D48 | B48: ='Registered Shooters'!E48 | C48: ='Registered Shooters'!F48 | D48: ='Registered Shooters'!G48 | E48: ='Registered Shooters'!H48 | F48: ='Registered Shooters'!I48 | K48: =SUM(G48:J48) -> 0
A49: ='Registered Shooters'!D49 | B49: ='Registered Shooters'!E49 | C49: ='Registered Shooters'!F49 | D49: ='Registered Shooters'!G49 | E49: ='Registered Shooters'!H49 | F49: ='Registered Shooters'!I49 | K49: =SUM(G49:J49) -> 0
... A255: ='Registered Shooters'!D255 | B255: ='Registered Shooters'!E255 | C255: ='Registered Shooters'!F255 | D255: ='Registered Shooters'!G255 | E255: ='Registered Shooters'!H255 | F255: ='Registered Shooters'!I255 | K255: =SUM(G255:J255) -> 0

Sheet Sporting
E1: Sporting Clays
A2: ='Registered Shooters'!$D$2 -> 41888 | H2: ='Registered Shooters'!$O$2 -> Tom Lowe Shooting Grounds
A3: ='Registered Shooters'!D3 -> School | B3: ='Registered Shooters'!E3 -> First | C3: ='Registered Shooters'!F3 -> Last | D3: ='Registered Shooters'!G3 -> Grade | E3: ='Registered Shooters'!H3 -> Gender | F3: ='Registered Shooters'!I3 -> Division | G3: Score | H3: Place
A4: ='Registered Shooters'!D4 -> Woodward Academy | B4: ='Registered Shooters'!E4 -> Andrew | C4: ='Registered Shooters'!F4 -> Gulley | D4: ='Registered Shooters'!G4 -> 12 | E4: ='Registered Shooters'!H4 -> M | F4: ='Registered Shooters'!I4 -> V
A5: ='Registered Shooters'!D5 -> Woodward Academy | B5: ='Registered Shooters'!E5 -> Hamilton | C5: ='Registered Shooters'!F5 -> Hooper | D5: ='Registered Shooters'!G5 -> 12 | E5: ='Registered Shooters'!H5 -> M | F5: ='Registered Shooters'!I5 -> V | L5: Do Not enter A-F, automatically populated from Registered shooters sheet
A6: ='Registered Shooters'!D6 -> Woodward Academy | B6: ='Registered Shooters'!E6 -> Drew | C6: ='Registered Shooters'!F6 -> Stull | D6: ='Registered Shooters'!G6 -> 12 | E6: ='Registered Shooters'!H6 -> M | F6: ='Registered Shooters'!I6 -> V
A7: ='Registered Shooters'!D7 -> Woodward Academy | B7: ='Registered Shooters'!E7 -> Drew | C7: ='Registered Shooters'!F7 -> Sullivan | D7: ='Registered Shooters'!G7 -> 12 | E7: ='Registered Shooters'!H7 -> M | F7: ='Registered Shooters'!I7 -> V | L7: Do NOT sort this sheet
A8: ='Registered Shooters'!D8 -> Woodward Academy | B8: ='Registered Shooters'!E8 -> Wesley | C8: ='Registered Shooters'!F8 -> Chastain | D8: ='Registered Shooters'!G8 -> 12 | E8: ='Registered Shooters'!H8 -> M | F8: ='Registered Shooters'!I8 -> V | L8: Follow instructions on by Sporting Tab
A9: ='Registered Shooters'!D9 -> Woodward Academy | B9: ='Registered Shooters'!E9 -> Catherine | C9: ='Registered Shooters'!F9 -> LaBriola | D9: ='Registered Shooters'!G9 -> 12 | E9: ='Registered Shooters'!H9 -> F | F9: ='Registered Shooters'!I9 -> V
A10: ='Registered Shooters'!D10 -> Woodward Academy | B10: ='Registered Shooters'!E10 -> Kyle | C10: ='Registered Shooters'!F10 -> Cooke | D10: ='Registered Shooters'!G10 -> 11 | E10: ='Registered Shooters'!H10 -> M | F10: ='Registered Shooters'!I10 -> V
A11: ='Registered Shooters'!D11 -> Woodward Academy | B11: ='Registered Shooters'!E11 -> Peter | C11: ='Registered Shooters'!F11 -> Droogmans | D11: ='Registered Shooters'!G11 -> 11 | E11: ='Registered Shooters'!H11 -> M | F11: ='Registered Shooters'!I11 -> V
A12: ='Registered Shooters'!D12 -> Woodward Academy | B12: ='Registered Shooters'!E12 -> Scott | C12: ='Registered Shooters'!F12 -> Simpson | D12: ='Registered Shooters'!G12 -> 11 | E12: ='Registered Shooters'!H12 -> M | F12: ='Registered Shooters'!I12 -> V
A13: ='Registered Shooters'!D13 -> Woodward Academy | B13: ='Registered Shooters'!E13 -> Chad | C13: ='Registered Shooters'!F13 -> Baldwin | D13: ='Registered Shooters'!G13 -> 11 | E13: ='Registered Shooters'!H13 -> M | F13: ='Registered Shooters'!I13 -> V
A14: ='Registered Shooters'!D14 -> Woodward Academy | B14: ='Registered Shooters'!E14 -> Carley | C14: ='Registered Shooters'!F14 -> Clapes | D14: ='Registered Shooters'!G14 -> 11 | E14: ='Registered Shooters'!H14 -> F | F14: ='Registered Shooters'!I14 -> V
A15: ='Registered Shooters'!D15 -> Woodward Academy | B15: ='Registered Shooters'!E15 -> Robert | C15: ='Registered Shooters'!F15 -> Brush | D15: ='Registered Shooters'!G15 -> 11 | E15: ='Registered Shooters'!H15 -> M | F15: ='Registered Shooters'!I15 -> V
A16: ='Registered Shooters'!D16 -> Woodward Academy | B16: ='Registered Shooters'!E16 -> Lilly | C16: ='Registered Shooters'!F16 -> Smith | D16: ='Registered Shooters'!G16 -> 10 | E16: ='Registered Shooters'!H16 -> F | F16: ='Registered Shooters'!I16 -> V
A17: ='Registered Shooters'!D17 -> Woodward Academy | B17: ='Registered Shooters'!E17 -> Valdon | C17: ='Registered Shooters'!F17 -> Smith | D17: ='Registered Shooters'!G17 -> 10 | E17: ='Registered Shooters'!H17 -> M | F17: ='Registered Shooters'!I17 -> V
A18: ='Registered Shooters'!D18 -> Woodward Academy | B18: ='Registered Shooters'!E18 -> Carter | C18: ='Registered Shooters'!F18 -> Haydon | D18: ='Registered Shooters'!G18 -> 10 | E18: ='Registered Shooters'!H18 -> M | F18: ='Registered Shooters'!I18 -> V
A19: ='Registered Shooters'!D19 -> Woodward Academy | B19: ='Registered Shooters'!E19 -> Chase | C19: ='Registered Shooters'!F19 -> Calhoun | D19: ='Registered Shooters'!G19 -> 10 | E19: ='Registered Shooters'!H19 -> M | F19: ='Registered Shooters'!I19 -> V
A20: ='Registered Shooters'!D20 -> Woodward Academy | B20: ='Registered Shooters'!E20 -> Hannah | C20: ='Registered Shooters'!F20 -> Chastain | D20: ='Registered Shooters'!G20 -> 10 | E20: ='Registered Shooters'!H20 -> F | F20: ='Registered Shooters'!I20 -> V
... A255: ='Registered Shooters'!D255 | B255: ='Registered Shooters'!E255 | C255: ='Registered Shooters'!F255 | D255: ='Registered Shooters'!G255 | E255: ='Registered Shooters'!H255 | F255: ='Registered Shooters'!I255

Sheet Trap
E1: Trap Scores
A2: ='Registered Shooters'!$D$2 -> 41888 | L2: ='Registered Shooters'!$O$2 -> Tom Lowe Shooting Grounds
A3: ='Registered Shooters'!D3 -> School | B3: ='Registered Shooters'!E3 -> First | C3: ='Registered Shooters'!F3 -> Last | D3: ='Registered Shooters'!G3 -> Grade | E3: ='Registered Shooters'!H3 -> Gender | F3: ='Registered Shooters'!I3 -> Division | G3: Round1 | H3: Round2 | I3: Round3 | J3: Round4 | K3: Total | L3: Place
A4: ='Registered Shooters'!D4 -> Woodward Academy | B4: ='Registered Shooters'!E4 -> Andrew | C4: ='Registered Shooters'!F4 -> Gulley | D4: ='Registered Shooters'!G4 -> 12 | E4: ='Registered Shooters'!H4 -> M | F4: ='Registered Shooters'!I4 -> V | G4: 10 | H4: 8 | I4: 7 | J4: 15 | K4: =SUM(G4:J4) -> 40
A5: ='Registered Shooters'!D5 -> Woodward Academy | B5: ='Registered Shooters'!E5 -> Hamilton | C5: ='Registered Shooters'!F5 -> Hooper | D5: ='Registered Shooters'!G5 -> 12 | E5: ='Registered Shooters'!H5 -> M | F5: ='Registered Shooters'!I5 -> V | G5: 13 | H5: 13 | I5: 21 | J5: 20 | K5: =SUM(G5:J5) -> 67 | P5: Do Not enter A-F, automatically populated from Registered shooters sheet
A6: ='Registered Shooters'!D6 -> Woodward Academy | B6: ='Registered Shooters'!E6 -> Drew | C6: ='Registered Shooters'!F6 -> Stull | D6: ='Registered Shooters'!G6 -> 12 | E6: ='Registered Shooters'!H6 -> M | F6: ='Registered Shooters'!I6 -> V | G6: 14 | H6: 16 | I6: 8 | J6: 11 | K6: =SUM(G6:J6) -> 49
A7: ='Registered Shooters'!D7 -> Woodward Academy | B7: ='Registered Shooters'!E7 -> Drew | C7: ='Registered Shooters'!F7 -> Sullivan | D7: ='Registered Shooters'!G7 -> 12 | E7: ='Registered Shooters'!H7 -> M | F7: ='Registered Shooters'!I7 -> V | G7: 9 | H7: 10 | I7: 15 | J7: 16 | K7: =SUM(G7:J7) -> 50 | P7: If only shooting 50, leave Rounds 3 & 4 blanks
A8: ='Registered Shooters'!D8 -> Woodward Academy | B8: ='Registered Shooters'!E8 -> Wesley | C8: ='Registered Shooters'!F8 -> Chastain | D8: ='Registered Shooters'!G8 -> 12 | E8: ='Registered Shooters'!H8 -> M | F8: ='Registered Shooters'!I8 -> V | G8: 22 | H8: 17 | I8: 20 | J8: 19 | K8: =SUM(G8:J8) -> 78
A9: ='Registered Shooters'!D9 -> Woodward Academy | B9: ='Registered Shooters'!E9 -> Catherine | C9: ='Registered Shooters'!F9 -> LaBriola | D9: ='Registered Shooters'!G9 -> 12 | E9: ='Registered Shooters'!H9 -> F | F9: ='Registered Shooters'!I9 -> V | G9: 12 | H9: 17 | I9: 18 | J9: 18 | K9: =SUM(G9:J9) -> 65 | P9: Do NOT sort this sheet
A10: ='Registered Shooters'!D10 -> Woodward Academy | B10: ='Registered Shooters'!E10 -> Kyle | C10: ='Registered Shooters'!F10 -> Cooke | D10: ='Registered Shooters'!G10 -> 11 | E10: ='Registered Shooters'!H10 -> M | F10: ='Registered Shooters'!I10 -> V | G10: 11 | H10: 6 | I10: 8 | J10: 8 | K10: =SUM(G10:J10) -> 33 | P10: Follow instructions on by Trap Tab
A11: ='Registered Shooters'!D11 -> Woodward Academy | B11: ='Registered Shooters'!E11 -> Peter | C11: ='Registered Shooters'!F11 -> Droogmans | D11: ='Registered Shooters'!G11 -> 11 | E11: ='Registered Shooters'!H11 -> M | F11: ='Registered Shooters'!I11 -> V | G11: 23 | H11: 22 | I11: 25 | J11: 22 | K11: =SUM(G11:J11) -> 92
A12: ='Registered Shooters'!D12 -> Woodward Academy | B12: ='Registered Shooters'!E12 -> Scott | C12: ='Registered Shooters'!F12 -> Simpson | D12: ='Registered Shooters'!G12 -> 11 | E12: ='Registered Shooters'!H12 -> M | F12: ='Registered Shooters'!I12 -> V | G12: 20 | H12: 20 | I12: 21 | J12: 22 | K12: =SUM(G12:J12) -> 83
A13: ='Registered Shooters'!D13 -> Woodward Academy | B13: ='Registered Shooters'!E13 -> Chad | C13: ='Registered Shooters'!F13 -> Baldwin | D13: ='Registered Shooters'!G13 -> 11 | E13: ='Registered Shooters'!H13 -> M | F13: ='Registered Shooters'!I13 -> V | G13: 14 | H13: 13 | I13: 20 | J13: 13 | K13: =SUM(G13:J13) -> 60
A14: ='Registered Shooters'!D14 -> Woodward Academy | B14: ='Registered Shooters'!E14 -> Carley | C14: ='Registered Shooters'!F14 -> Clapes | D14: ='Registered Shooters'!G14 -> 11 | E14: ='Registered Shooters'!H14 -> F | F14: ='Registered Shooters'!I14 -> V | G14: 6 | H14: 10 | I14: 16 | J14: 14 | K14: =SUM(G14:J14) -> 46
A15: ='Registered Shooters'!D15 -> Woodward Academy | B15: ='Registered Shooters'!E15 -> Robert | C15: ='Registered Shooters'!F15 -> Brush | D15: ='Registered Shooters'!G15 -> 11 | E15: ='Registered Shooters'!H15 -> M | F15: ='Registered Shooters'!I15 -> V | G15: 21 | H15: 21 | I15: 16 | J15: 19 | K15: =SUM(G15:J15) -> 77
A16: ='Registered Shooters'!D16 -> Woodward Academy | B16: ='Registered Shooters'!E16 -> Lilly | C16: ='Registered Shooters'!F16 -> Smith | D16: ='Registered Shooters'!G16 -> 10 | E16: ='Registered Shooters'!H16 -> F | F16: ='Registered Shooters'!I16 -> V | G16: 8 | H16: 17 | I16: 10 | J16: 7 | K16: =SUM(G16:J16) -> 42
A17: ='Registered Shooters'!D17 -> Woodward Academy | B17: ='Registered Shooters'!E17 -> Valdon | C17: ='Registered Shooters'!F17 -> Smith | D17: ='Registered Shooters'!G17 -> 10 | E17: ='Registered Shooters'!H17 -> M | F17: ='Registered Shooters'!I17 -> V | G17: 20 | H17: 19 | I17: 19 | J17: 17 | K17: =SUM(G17:J17) -> 75
A18: ='Registered Shooters'!D18 -> Woodward Academy | B18: ='Registered Shooters'!E18 -> Carter | C18: ='Registered Shooters'!F18 -> Haydon | D18: ='Registered Shooters'!G18 -> 10 | E18: ='Registered Shooters'!H18 -> M | F18: ='Registered Shooters'!I18 -> V | G18: 21 | H18: 21 | I18: 23 | J18: 19 | K18: =SUM(G18:J18) -> 84
A19: ='Registered Shooters'!D19 -> Woodward Academy | B19: ='Registered Shooters'!E19 -> Chase | C19: ='Registered Shooters'!F19 -> Calhoun | D19: ='Registered Shooters'!G19 -> 10 | E19: ='Registered Shooters'!H19 -> M | F19: ='Registered Shooters'!I19 -> V | G19: 8 | H19: 14 | I19: 13 | J19: 21 | K19: =SUM(G19:J19) -> 56
A20: ='Registered Shooters'!D20 -> Woodward Academy | B20: ='Registered Shooters'!E20 -> Hannah | C20: ='Registered Shooters'!F20 -> Chastain | D20: ='Registered Shooters'!G20 -> 10 | E20: ='Registered Shooters'!H20 -> F | F20: ='Registered Shooters'!I20 -> V | G20: 14 | H20: 15 | I20: 17 | J20: 14 | K20: =SUM(G20:J20) -> 60
A21: ='Registered Shooters'!D21 -> Woodward Academy | B21: ='Registered Shooters'!E21 -> Meredith | C21: ='Registered Shooters'!F21 -> Von Kleydorff | D21: ='Registered Shooters'!G21 -> 10 | E21: ='Registered Shooters'!H21 -> F | F21: ='Registered Shooters'!I21 -> V | G21: 12 | H21: 13 | I21: 16 | J21: 11 | K21: =SUM(G21:J21) -> 52
A22: ='Registered Shooters'!D22 -> Woodward Academy | B22: ='Registered Shooters'!E22 -> Ethan | C22: ='Registered Shooters'!F22 -> Cornelius | D22: ='Registered Shooters'!G22 -> 9 | E22: ='Registered Shooters'!H22 -> M | F22: ='Registered Shooters'!I22 -> V | G22: 16 | H22: 22 | I22: 15 | J22: 20 | K22: =SUM(G22:J22) -> 73
... A37: ='Registered Shooters'!D37 -> Strong Rock | B37: ='Registered Shooters'!E37 -> Cade | C37: ='Registered Shooters'!F37 -> Howell | D37: ='Registered Shooters'!G37 -> 8 | E37: ='Registered Shooters'!H37 -> M | F37: ='Registered Shooters'!I37 -> JV | G37: 12 | H37: 7 | I37: 8 | J37: 7 | K37: =SUM(G37:J37) -> 34
A38: ='Registered Shooters'!D38 | B38: ='Registered Shooters'!E38 | C38: ='Registered Shooters'!F38 | D38: ='Registered Shooters'!G38 | E38: ='Registered Shooters'!H38 | F38: ='Registered Shooters'!I38 | K38: =SUM(G38:J38) -> 0
A39: ='Registered Shooters'!D39 | B39: ='Registered Shooters'!E39 | C39: ='Registered Shooters'!F39 | D39: ='Registered Shooters'!G39 | E39: ='Registered Shooters'!H39 | F39: ='Registered Shooters'!I39 | K39: =SUM(G39:J39) -> 0
A40: ='Registered Shooters'!D40 | B40: ='Registered Shooters'!E40 | C40: ='Registered Shooters'!F40 | D40: ='Registered Shooters'!G40 | E40: ='Registered Shooters'!H40 | F40: ='Registered Shooters'!I40 | K40: =SUM(G40:J40) -> 0
A41: ='Registered Shooters'!D41 | B41: ='Registered Shooters'!E41 | C41: ='Registered Shooters'!F41 | D41: ='Registered Shooters'!G41 | E41: ='Registered Shooters'!H41 | F41: ='Registered Shooters'!I41 | K41: =SUM(G41:J41) -> 0
A42: ='Registered Shooters'!D42 | B42: ='Registered Shooters'!E42 | C42: ='Registered Shooters'!F42 | D42: ='Registered Shooters'!G42 | E42: ='Registered Shooters'!H42 | F42: ='Registered Shooters'!I42 | K42: =SUM(G42:J42) -> 0
A43: ='Registered Shooters'!D43 | B43: ='Registered Shooters'!E43 | C43: ='Registered Shooters'!F43 | D43: ='Registered Shooters'!G43 | E43: ='Registered Shooters'!H43 | F43: ='Registered Shooters'!I43 | K43: =SUM(G43:J43) -> 0
A44: ='Registered Shooters'!D44 | B44: ='Registered Shooters'!E44 | C44: ='Registered Shooters'!F44 | D44: ='Registered Shooters'!G44 | E44: ='Registered Shooters'!H44 | F44: ='Registered Shooters'!I44 | K44: =SUM(G44:J44) -> 0
A45: ='Registered Shooters'!D45 | B45: ='Registered Shooters'!E45 | C45: ='Registered Shooters'!F45 | D45: ='Registered Shooters'!G45 | E45: ='Registered Shooters'!H45 | F45: ='Registered Shooters'!I45 | K45: =SUM(G45:J45) -> 0
A46: ='Registered Shooters'!D46 | B46: ='Registered Shooters'!E46 | C46: ='Registered Shooters'!F46 | D46: ='Registered Shooters'!G46 | E46: ='Registered Shooters'!H46 | F46: ='Registered Shooters'!I46 | K46: =SUM(G46:J46) -> 0
A47: ='Registered Shooters'!D47 | B47: ='Registered Shooters'!E47 | C47: ='Registered Shooters'!F47 | D47: ='Registered Shooters'!G47 | E47: ='Registered Shooters'!H47 | F47: ='Registered Shooters'!I47 | K47: =SUM(G47:J47) -> 0
A48: ='Registered Shooters'!D48 | B48: ='Registered Shooters'!E48 | C48: ='Registered Shooters'!F48 | D48: ='Registered Shooters'!G48 | E48: ='Registered Shooters'!H48 | F48: ='Registered Shooters'!I48 | K48: =SUM(G48:J48) -> 0
A49: ='Registered Shooters'!D49 | B49: ='Registered Shooters'!E49 | C49: ='Registered Shooters'!F49 | D49: ='Registered Shooters'!G49 | E49: ='Registered Shooters'!H49 | F49: ='Registered Shooters'!I49 | K49: =SUM(G49:J49) -> 0
... A255: ='Registered Shooters'!D255 | B255: ='Registered Shooters'!E255 | C255: ='Registered Shooters'!F255 | D255: ='Registered Shooters'!G255 | E255: ='Registered Shooters'!H255 | F255: ='Registered Shooters'!I255 | K255: =SUM(G255:J255) -> 0

Sheet by School
C1: GISA Clay Target Shoot Squadding and Scores
A2: 41888 | L2: Tom Lowe Shooting Grounds
A3: School | B3: First | C3: Last | D3: Grade | E3: Gender | F3: Division | H3: Skeet | I3: Sporting | J3: Trap | K3: Individual Total | L3: Place
A4: Griffin Christian | B4: Parker | C4: Shultz | D4: 9 | E4: M | F4: V | H4: 68 | I4: 0 | J4: 66 | K4: 134
A5: Griffin Christian | B5: Levi | C5: Moore | D5: 9 | E5: M | F5: V | H5: 70 | I5: 0 | J5: 63 | K5: 133 | L5: 399 | M5: 4th
A6: Griffin Christian | B6: Ryan | C6: Oster | D6: 9 | E6: M | F6: V | H6: 68 | I6: 0 | J6: 64 | K6: 132
A7: Griffin Christian | B7: Colin | C7: Ogilvie | D7: 10 | E7: M | F7: V | H7: 61 | I7: 0 | J7: 69 | K7: 130
A8: Strong Rock | B8: Ryan | C8: Abrahams | D8: 10 | E8: M | F8: V | H8: 86 | I8: 0 | J8: 55 | K8: 141
A9: Strong Rock | B9: Hunter | C9: Rosich | D9: 10 | E9: M | F9: V | H9: 71 | I9: 0 | J9: 68 | K9: 139 | L9: 390 | M9: 6th
A10: Strong Rock | B10: Hailey | C10: Brooks | D10: 10 | E10: F | F10: V | H10: 39 | I10: 0 | J10: 71 | K10: 110
A11: Strong Rock | B11: Chase | C11: Rosich | D11: 8 | E11: M | F11: JV | H11: 74 | I11: 0 | J11: 39 | K11: 113
A12: Strong Rock | B12: Mason | C12: Morgan | D12: 8 | E12: M | F12: JV | H12: 45 | I12: 0 | J12: 50 | K12: 95 | L12: 290 | M12: 8th
A13: Strong Rock | B13: Ryan | C13: Wood | D13: 7 | E13: M | F13: JV | H13: 30 | I13: 0 | J13: 52 | K13: 82
A14: Strong Rock | B14: Cade | C14: Howell | D14: 8 | E14: M | F14: JV | H14: 39 | I14: 0 | J14: 34 | K14: 73
A15: Strong Rock | B15: Reece | C15: Howell | D15: 8 | E15: M | F15: JV | H15: 32 | I15: 0 | J15: 19 | K15: 51
A16: Woodward Academy | B16: Peter | C16: Droogmans | D16: 11 | E16: M | F16: V | H16: 88 | I16: 0 | J16: 92 | K16: 180
A17: Woodward Academy | B17: Robert | C17: Brush | D17: 11 | E17: M | F17: V | H17: 87 | I17: 0 | J17: 77 | K17: 164 | L17: 507 | M17: 1st
A18: Woodward Academy | B18: Scott | C18: Simpson | D18: 11 | E18: M | F18: V | H18: 80 | I18: 0 | J18: 83 | K18: 163
A19: Woodward Academy | B19: Wesley | C19: Chastain | D19: 12 | E19: M | F19: V | H19: 80 | I19: 0 | J19: 78 | K19: 158
A20: Woodward Academy | B20: Valdon | C20: Smith | D20: 10 | E20: M | F20: V | H20: 74 | I20: 0 | J20: 75 | K20: 149 | L20: 454 | M20: 2nd
A21: Woodward Academy | B21: Catherine | C21: LaBriola | D21: 12 | E21: F | F21: V | H21: 82 | I21: 0 | J21: 65 | K21: 147
A22: Woodward Academy | B22: Hamilton | C22: Hooper | D22: 12 | E22: M | F22: V | H22: 77 | I22: 0 | J22: 67 | K22: 144
A23: Woodward Academy | B23: Drew | C23: Sullivan | D23: 12 | E23: M | F23: V | H23: 90 | I23: 0 | J23: 50 | K23: 140 | L23: 424 | M23: 3rd
A24: Woodward Academy | B24: Ethan | C24: Cornelius | D24: 9 | E24: M | F24: V | H24: 67 | I24: 0 | J24: 73 | K24: 140
A25: Woodward Academy | B25: Chad | C25: Baldwin | D25: 11 | E25: M | F25: V | H25: 77 | I25: 0 | J25: 60 | K25: 137
A26: Woodward Academy | B26: Finn | C26: Gosch | D26: 9 | E26: M | F26: V | H26: 64 | I26: 0 | J26: 68 | K26: 132 | L26: 397 | M26: 5th
A27: Woodward Academy | B27: Hannah | C27: Chastain | D27: 10 | E27: F | F27: V | H27: 68 | I27: 0 | J27: 60 | K27: 128
A28: Woodward Academy | B28: Carter | C28: Haydon | D28: 10 | E28: M | F28: V | H28: 43 | I28: 0 | J28: 84 | K28: 127
A29: Woodward Academy | B29: Drew | C29: Stull | D29: 12 | E29: M | F29: V | H29: 76 | I29: 0 | J29: 49 | K29: 125 | L29: 373 | M29: 7th
A30: Woodward Academy | B30: Chase | C30: Calhoun | D30: 10 | E30: M | F30: V | H30: 65 | I30: 0 | J30: 56 | K30: 121
A31: Woodward Academy | B31: August | C31: Stowers | D31: 9 | E31: M | F31: V | H31: 59 | I31: 0 | J31: 53 | K31: 112
A32: Woodward Academy | B32: Kyle | C32: Cooke | D32: 11 | E32: M | F32: V | H32: 75 | I32: 0 | J32: 33 | K32: 108 | L32: 326 | M32: 8th
A33: Woodward Academy | B33: Andrew | C33: Gulley | D33: 12 | E33: M | F33: V | H33: 66 | I33: 0 | J33: 40 | K33: 106
A34: Woodward Academy | B34: Meredith | C34: Von Kleydorff | D34: 10 | E34: F | F34: V | H34: 46 | I34: 0 | J34: 52 | K34: 98
A35: Woodward Academy | B35: Cate | C35: Droogmans | D35: 9 | E35: F | F35: V | H35: 56 | I35: 0 | J35: 42 | K35: 98 | L35: 283 | M35: 9th
A36: Woodward Academy | B36: Carley | C36: Clapes | D36: 11 | E36: F | F36: V | H36: 41 | I36: 0 | J36: 46 | K36: 87
A37: Woodward Academy | B37: Lilly | C37: Smith | D37: 10 | E37: F | F37: V | H37: 40 | I37: 0 | J37: 42 | K37: 82
H38: 0 | I38: 0 | J38: 0 | K38: 0
H39: 0 | I39: 0 | J39: 0 | K39: 0
H40: 0 | I40: 0 | J40: 0 | K40: 0
...

Sheet by Total
C1: GISA Clay Target Shoot Squadding and Scores
A2: 41888 | L2: Tom Lowe Shooting Grounds
A3: School | B3: First | C3: Last | D3: Grade | E3: Gender | F3: Division | H3: Skeet | I3: Sporting | J3: Trap | K3: Individual Total | L3: Place
A4: Woodward Academy | B4: Peter | C4: Droogmans | D4: 11 | E4: M | F4: V | H4: 88 | I4: 0 | J4: 92 | K4: 180 | L4: 1st
A5: Woodward Academy | B5: Robert | C5: Brush | D5: 11 | E5: M | F5: V | H5: 87 | I5: 0 | J5: 77 | K5: 164 | L5: 2nd
A6: Woodward Academy | B6: Scott | C6: Simpson | D6: 11 | E6: M | F6: V | H6: 80 | I6: 0 | J6: 83 | K6: 163 | L6: 3rd
A7: Woodward Academy | B7: Wesley | C7: Chastain | D7: 12 | E7: M | F7: V | H7: 80 | I7: 0 | J7: 78 | K7: 158
A8: Woodward Academy | B8: Valdon | C8: Smith | D8: 10 | E8: M | F8: V | H8: 74 | I8: 0 | J8: 75 | K8: 149
A9: Woodward Academy | B9: Catherine | C9: LaBriola | D9: 12 | E9: F | F9: V | H9: 82 | I9: 0 | J9: 65 | K9: 147
A10: Woodward Academy | B10: Hamilton | C10: Hooper | D10: 12 | E10: M | F10: V | H10: 77 | I10: 0 | J10: 67 | K10: 144
A11: Strong Rock | B11: Ryan | C11: Abrahams | D11: 10 | E11: M | F11: V | H11: 86 | I11: 0 | J11: 55 | K11: 141
A12: Woodward Academy | B12: Drew | C12: Sullivan | D12: 12 | E12: M | F12: V | H12: 90 | I12: 0 | J12: 50 | K12: 140
A13: Woodward Academy | B13: Ethan | C13: Cornelius | D13: 9 | E13: M | F13: V | H13: 67 | I13: 0 | J13: 73 | K13: 140
A14: Strong Rock | B14: Hunter | C14: Rosich | D14: 10 | E14: M | F14: V | H14: 71 | I14: 0 | J14: 68 | K14: 139
A15: Woodward Academy | B15: Chad | C15: Baldwin | D15: 11 | E15: M | F15: V | H15: 77 | I15: 0 | J15: 60 | K15: 137
A16: Griffin Christian | B16: Parker | C16: Shultz | D16: 9 | E16: M | F16: V | H16: 68 | I16: 0 | J16: 66 | K16: 134
A17: Griffin Christian | B17: Levi | C17: Moore | D17: 9 | E17: M | F17: V | H17: 70 | I17: 0 | J17: 63 | K17: 133
A18: Woodward Academy | B18: Finn | C18: Gosch | D18: 9 | E18: M | F18: V | H18: 64 | I18: 0 | J18: 68 | K18: 132
... A37: Strong Rock | B37: Reece | C37: Howell | D37: 8 | E37: M | F37: JV | H37: 32 | I37: 0 | J37: 19 | K37: 51
H38: 0 | I38: 0 | J38: 0 | K38: 0
H39: 0 | I39: 0 | J39: 0 | K39: 0
H40: 0 | I40: 0 | J40: 0 | K40: 0
H41: 0 | I41: 0 | J41: 0 | K41: 0
H42: 0 | I42: 0 | J42: 0 | K42: 0
H43: 0 | I43: 0 | J43: 0 | K43: 0
H44: 0 | I44: 0 | J44: 0 | K44: 0
H45: 0 | I45: 0 | J45: 0 | K45: 0
H46: 0 | I46: 0 | J46: 0 | K46: 0
H47: 0 | I47: 0 | J47: 0 | K47: 0
H48: 0 | I48: 0 | J48: 0 | K48: 0
H49: 0 | I49: 0 | J49: 0 | K49: 0
... H255: 0 | I255: 0 | J255: 0 | K255: 0

Sheet by Skeet
C1: GISA Clay Target Shoot Squadding and Scores
A2: 41888 | L2: Tom Lowe Shooting Grounds
A3: School | B3: First | C3: Last | D3: Grade | E3: Gender | F3: Division | H3: Skeet | I3: Sporting | J3: Trap | K3: Individual Total | L3: Place
A4: Woodward Academy | B4: Andrew | C4: Gulley | D4: 12 | E4: M | F4: V | H4: 66 | I4: 0 | J4: 40 | K4: 106
A5: Woodward Academy | B5: Drew | C5: Sullivan | D5: 12 | E5: M | F5: V | H5: 90 | I5: 0 | J5: 50 | K5: 140
A6: Woodward Academy | B6: Peter | C6: Droogmans | D6: 11 | E6: M | F6: V | H6: 88 | I6: 0 | J6: 92 | K6: 180
A7: Woodward Academy | B7: Robert | C7: Brush | D7: 11 | E7: M | F7: V | H7: 87 | I7: 0 | J7: 77 | K7: 164
A8: Strong Rock | B8: Ryan | C8: Abrahams | D8: 10 | E8: M | F8: V | H8: 86 | I8: 0 | J8: 55 | K8: 141
A9: Woodward Academy | B9: Catherine | C9: LaBriola | D9: 12 | E9: F | F9: V | H9: 82 | I9: 0 | J9: 65 | K9: 147
A10: Woodward Academy | B10: Scott | C10: Simpson | D10: 11 | E10: M | F10: V | H10: 80 | I10: 0 | J10: 83 | K10: 163
A11: Woodward Academy | B11: Wesley | C11: Chastain | D11: 12 | E11: M | F11: V | H11: 80 | I11: 0 | J11: 78 | K11: 158
A12: Woodward Academy | B12: Hamilton | C12: Hooper | D12: 12 | E12: M | F12: V | H12: 77 | I12: 0 | J12: 67 | K12: 144
A13: Woodward Academy | B13: Chad | C13: Baldwin | D13: 11 | E13: M | F13: V | H13: 77 | I13: 0 | J13: 60 | K13: 137
A14: Woodward Academy | B14: Drew | C14: Stull | D14: 12 | E14: M | F14: V | H14: 76 | I14: 0 | J14: 49 | K14: 125
A15: Woodward Academy | B15: Kyle | C15: Cooke | D15: 11 | E15: M | F15: V | H15: 75 | I15: 0 | J15: 33 | K15: 108
... A37: Strong Rock | B37: Ryan | C37: Wood | D37: 7 | E37: M | F37: JV | H37: 30 | I37: 0 | J37: 52 | K37: 82
H38: 0 | I38: 0 | J38: 0 | K38: 0
H39: 0 | I39: 0 | J39: 0 | K39: 0
H40: 0 | I40: 0 | J40: 0 | K40: 0
H41: 0 | I41: 0 | J41: 0 | K41: 0
H42: 0 | I42: 0 | J42: 0 | K42: 0
H43: 0 | I43: 0 | J43: 0 | K43: 0
H44: 0 | I44: 0 | J44: 0 | K44: 0
H45: 0 | I45: 0 | J45: 0 | K45: 0
H46: 0 | I46: 0 | J46: 0 | K46: 0
H47: 0 | I47: 0 | J47: 0 | K47: 0
H48: 0 | I48: 0 | J48: 0 | K48: 0
H49: 0 | I49: 0 | J49: 0 | K49: 0
... H255: 0 | I255: 0 | J255: 0 | K255: 0

Sheet by Sporting
A1: Copy D-O from Registered Shooters sheet after all scores are entered and verified
A2: Paste with Paste Values
A3: Then Sort by Sporting Score (largest to smallest)

Sheet by Trap
C1: GISA Clay Target Shoot Squadding and Scores
A2: 41888 | L2: Tom Lowe Shooting Grounds
A3: School | B3: First | C3: Last | D3: Grade | E3: Gender | F3: Division | H3: Skeet | I3: Sporting | J3: Trap | K3: Individual Total | L3: Place
A4: Woodward Academy | B4: Peter | C4: Droogmans | D4: 11 | E4: M | F4: V | H4: 88 | I4: 0 | J4: 92 | K4: 180
A5: Woodward Academy | B5: Carter | C5: Haydon | D5: 10 | E5: M | F5: V | H5: 43 | I5: 0 | J5: 84 | K5: 127
A6: Woodward Academy | B6: Scott | C6: Simpson | D6: 11 | E6: M | F6: V | H6: 80 | I6: 0 | J6: 83 | K6: 163
A7: Woodward Academy | B7: Wesley | C7: Chastain | D7: 12 | E7: M | F7: V | H7: 80 | I7: 0 | J7: 78 | K7: 158
A8: Woodward Academy | B8: Robert | C8: Brush | D8: 11 | E8: M | F8: V | H8: 87 | I8: 0 | J8: 77 | K8: 164
A9: Woodward Academy | B9: Valdon | C9: Smith | D9: 10 | E9: M | F9: V | H9: 74 | I9: 0 | J9: 75 | K9: 149
A10: Woodward Academy | B10: Ethan | C10: Cornelius | D10: 9 | E10: M | F10: V | H10: 67 | I10: 0 | J10: 73 | K10: 140
A11: Strong Rock | B11: Hailey | C11: Brooks | D11: 10 | E11: F | F11: V | H11: 39 | I11: 0 | J11: 71 | K11: 110
A12: Griffin Christian | B12: Colin | C12: Ogilvie | D12: 10 | E12: M | F12: V | H12: 61 | I12: 0 | J12: 69 | K12: 130
A13: Woodward Academy | B13: Finn | C13: Gosch | D13: 9 | E13: M | F13: V | H13: 64 | I13: 0 | J13: 68 | K13: 132
A14: Strong Rock | B14: Hunter | C14: Rosich | D14: 10 | E14: M | F14: V | H14: 71 | I14: 0 | J14: 68 | K14: 139
A15: Woodward Academy | B15: Hamilton | C15: Hooper | D15: 12 | E15: M | F15: V | H15: 77 | I15: 0 | J15: 67 | K15: 144
... A37: Strong Rock | B37: Reece | C37: Howell | D37: 8 | E37: M | F37: JV | H37: 32 | I37: 0 | J37: 19 | K37: 51
H38: 0 | I38: 0 | J38: 0 | K38: 0
H39: 0 | I39: 0 | J39: 0 | K39: 0
H40: 0 | I40: 0 | J40: 0 | K40: 0
H41: 0 | I41: 0 | J41: 0 | K41: 0
H42: 0 | I42: 0 | J42: 0 | K42: 0
H43: 0 | I43: 0 | J43: 0 | K43: 0
H44: 0 | I44: 0 | J44: 0 | K44: 0
H45: 0 | I45: 0 | J45: 0 | K45: 0
H46: 0 | I46: 0 | J46: 0 | K46: 0
H47: 0 | I47: 0 | J47: 0 | K47: 0
H48: 0 | I48: 0 | J48: 0 | K48: 0
H49: 0 | I49: 0 | J49: 0 | K49: 0
... H255: 0 | I255: 0 | J255: 0 | K255: 0

Sheet Skeet Squads
H1: Skeet Squad Times
A2: ='Registered Shooters'!$D$2 -> 41888 | L2: ='Registered Shooters'!$O$2 -> Tom Lowe Shooting Grounds
C3: School | D3: First | E3: Last | F3: Grade | J3: School | K3: First | L3: Last | M3: Grade | Q3: School | R3: First | S3: Last | T3: Grade | X3: School | Y3: First | Z3: Last | AA3: Grade | AE3: School | AF3: First | AG3: Last | AH3: Grade | AL3: School | AM3: First | AN3: Last | AO3: Grade
A4: Time | E4: Field 1 | H4: Time | L4: Field 2 | O4: Time | S4: Field 3 | V4: Time | Z4: Field 4 | AC4: Time | AG4: Field 5 | AJ4: Time | AN4: Field 6
B5: 1 | I5: 1 | P5: 1 | W5: 1 | AD5: 1 | AK5: 1 | AQ5: Put shooters shooting only skeet
B6: 2 | I6: 2 | P6: 2 | W6: 2 | AD6: 2 | AK6: 2 | AQ6: at noon if possible
A7: 0.33333333 | B7: 3 | H7: 0.33333333 | I7: 3 | O7: 0.33333333 | P7: 3 | V7: 0.33333333 | W7: 3 | AC7: 0.33333333 | AD7: 3 | AJ7: 0.33333333 | AK7: 3
B8: 4 | I8: 4 | P8: 4 | W8: 4 | AD8: 4 | AK8: 4 | AQ8: Fill in 8 and 3 last
B9: 5 | I9: 5 | P9: 5 | W9: 5 | AD9: 5 | AK9: 5 | AQ9: Times are for 50 rounds
B10: 6 | I10: 6 | P10: 6 | W10: 6 | AD10: 6 | AK10: 6
B12: 1 | I12: 1 | P12: 1 | W12: 1 | AD12: 1 | AK12: 1 | AQ12: Insert columns before O and copy G-N to add more fields
B13: 2 | I13: 2 | P13: 2 | W13: 2 | AD13: 2 | AK13: 2
A14: 0.375 | B14: 3 | H14: 0.375 | I14: 3 | O14: 0.375 | P14: 3 | V14: 0.375 | W14: 3 | AC14: 0.375 | AD14: 3 | AJ14: 0.375 | AK14: 3
B15: 4 | I15: 4 | P15: 4 | W15: 4 | AD15: 4 | AK15: 4
B16: 5 | I16: 5 | P16: 5 | W16: 5 | AD16: 5 | AK16: 5
B17: 6 | I17: 6 | P17: 6 | W17: 6 | AD17: 6 | AK17: 6
B19: 1 | I19: 1 | P19: 1 | W19: 1 | AD19: 1 | AK19: 1
B20: 2 | I20: 2 | P20: 2 | W20: 2 | AD20: 2 | AK20: 2
A21: 0.41666667 | B21: 3 | H21: 0.41666667 | I21: 3 | O21: 0.41666667 | P21: 3 | V21: 0.41666667 | W21: 3 | AC21: 0.41666667 | AD21: 3 | AJ21: 0.41666667 | AK21: 3
B22: 4 | I22: 4 | P22: 4 | W22: 4 | AD22: 4 | AK22: 4
B23: 5 | I23: 5 | P23: 5 | W23: 5 | AD23: 5 | AK23: 5
B24: 6 | I24: 6 | P24: 6 | W24: 6 | AD24: 6 | AK24: 6
B26: 1 | I26: 1 | P26: 1 | W26: 1 | AD26: 1 | AK26: 1
B27: 2 | I27: 2 | P27: 2 | W27: 2 | AD27: 2 | AK27: 2
A28: 0.45833333 | B28: 3 | H28: 0.45833333 | I28: 3 | O28: 0.45833333 | P28: 3 | V28: 0.45833333 | W28: 3 | AC28: 0.45833333 | AD28: 3 | AJ28: 0.45833333 | AK28: 3
B29: 4 | I29: 4 | P29: 4 | W29: 4 | AD29: 4 | AK29: 4
B30: 5 | I30: 5 | P30: 5 | W30: 5 | AD30: 5 | AK30: 5
B31: 6 | I31: 6 | P31: 6 | W31: 6 | AD31: 6 | AK31: 6
B33: 1 | I33: 1 | P33: 1 | W33: 1 | AD33: 1 | AK33: 1
B34: 2 | I34: 2 | P34: 2 | W34: 2 | AD34: 2 | AK34: 2
A35: 0.5 | B35: 3 | H35: 0.5 | I35: 3 | O35: 0.5 | P35: 3 | V35: 0.5 | W35: 3 | AC35: 0.5 | AD35: 3 | AJ35: 0.5 | AK35: 3
B36: 4 | I36: 4 | P36: 4 | W36: 4 | AD36: 4 | AK36: 4
B37: 5 | I37: 5 | P37: 5 | W37: 5 | AD37: 5 | AK37: 5
B38: 6 | I38: 6 | P38: 6 | W38: 6 | AD38: 6 | AK38: 6
B40: 1 | I40: 1 | P40: 1 | W40: 1 | AD40: 1 | AK40: 1
B41: 2 | I41: 2 | P41: 2 | W41: 2 | AD41: 2 | AK41: 2
A42: 0.54166667 | B42: 3 | H42: 0.54166667 | I42: 3 | O42: 0.54166667 | P42: 3 | V42: 0.54166667 | W42: 3 | AC42: 0.54166667 | AD42: 3 | AJ42: 0.54166667 | AK42: 3
B43: 4 | I43: 4 | P43: 4 | W43: 4 | AD43: 4 | AK43: 4
B44: 5 | I44: 5 | P44: 5 | W44: 5 | AD44: 5 | AK44: 5
B45: 6 | I45: 6 | P45: 6 | W45: 6 | AD45: 6 | AK45: 6
...

Sheet Sporting Squads
I1: Sporting Squad Times
A2: ='Registered Shooters'!$D$2 -> 41888 | S2: ='Registered Shooters'!$O$2 -> Tom Lowe Shooting Grounds
C3: School | D3: First | E3: Last | F3: Grade | J3: School | K3: First | L3: Last | M3: Grade | Q3: School | R3: First | S3: Last | T3: Grade
A4: Station | E4: 0.35416667 | H4: Station | L4: 0.47916667 | O4: Station | S4: 0.60416667
B5: 1 | I5: 1 | P5: 1 | V5: Fill in stations in this order:
B6: 2 | I6: 2 | P6: 2 | V6: 1, 4, 7, 10, 2, 5, 8, 11, 3, 6, 9, 12
A7: 1 | B7: 3 | H7: 1 | I7: 3 | O7: 1 | P7: 3 | V7: in order to spread out shooters
B8: 4 | I8: 4 | P8: 4 | V8: when all squads/stations are not full
B9: 5 | I9: 5 | P9: 5 | V9: and there are 12 stations
B10: 6 | I10: 6 | P10: 6
B12: 1 | I12: 1 | P12: 1
B13: 2 | I13: 2 | P13: 2
A14: 2 | B14: 3 | H14: 2 | I14: 3 | O14: 2 | P14: 3
B15: 4 | I15: 4 | P15: 4
B16: 5 | I16: 5 | P16: 5
B17: 6 | I17: 6 | P17: 6
B19: 1 | I19: 1 | P19: 1
B20: 2 | I20: 2 | P20: 2
A21: 3 | B21: 3 | H21: 3 | I21: 3 | O21: 3 | P21: 3
B22: 4 | I22: 4 | P22: 4
B23: 5 | I23: 5 | P23: 5
B24: 6 | I24: 6 | P24: 6
B26: 1 | I26: 1 | P26: 1
B27: 2 | I27: 2 | P27: 2
A28: 4 | B28: 3 | H28: 4 | I28: 3 | O28: 4 | P28: 3
B29: 4 | I29: 4 | P29: 4
B30: 5 | I30: 5 | P30: 5
B31: 6 | I31: 6 | P31: 6
B33: 1 | I33: 1 | P33: 1
B34: 2 | I34: 2 | P34: 2
A35: 5 | B35: 3 | H35: 5 | I35: 3 | O35: 5 | P35: 3
B36: 4 | I36: 4 | P36: 4
B37: 5 | I37: 5 | P37: 5
B38: 6 | I38: 6 | P38: 6
B40: 1 | I40: 1 | P40: 1
B41: 2 | I41: 2 | P41: 2
A42: 6 | B42: 3 | H42: 6 | I42: 3 | O42: 6 | P42: 3
B43: 4 | I43: 4 | P43: 4
B44: 5 | I44: 5 | P44: 5
B45: 6 | I45: 6 | P45: 6
...

Sheet Trap Squads
F1: Trap Squad Times
A2: ='Registered Shooters'!$D$2 -> 41888 | L2: ='Registered Shooters'!$O$2 -> Tom Lowe Shooting Grounds
C3: School | D3: First | E3: Last | F3: Grade | J3: School | K3: First | L3: Last | M3: Grade | Q3: School | R3: First | S3: Last | T3: Grade | X3: School | Y3: First | Z3: Last | AA3: Grade | AE3: School | AF3: First | AG3: Last | AH3: Grade | AL3: School | AM3: First | AN3: Last | AO3: Grade
A4: Time | E4: Field 1 | H4: Time | L4: Field 2 | O4: Time | S4: Field 3 | V4: Time | Z4: Field 4 | AC4: Time | AG4: Field 5 | AJ4: Time | AN4: Field 6
B5: 1 | I5: 1 | P5: 1 | W5: 1 | AD5: 1 | AK5: 1 | AR5: Put shooters shooting only trap
B6: 2 | I6: 2 | P6: 2 | W6: 2 | AD6: 2 | AK6: 2 | AR6: at 12:30 if possible
A7: 0.33333333 | B7: 3 | H7: 0.33333333 | I7: 3 | O7: 0.33333333 | P7: 3 | V7: 0.33333333 | W7: 3 | AC7: 0.33333333 | AD7: 3 | AJ7: 0.33333333 | AK7: 3
B8: 4 | I8: 4 | P8: 4 | W8: 4 | AD8: 4 | AK8: 4 | AR8: Fill in 8 and 3:30 last
B9: 5 | I9: 5 | P9: 5 | W9: 5 | AD9: 5 | AK9: 5 | AR9: Times are for 50 rounds
B10: 6 | I10: 6 | P10: 6 | W10: 6 | AD10: 6 | AK10: 6 | AR10: #6 stands behind #5
B12: 1 | I12: 1 | P12: 1 | W12: 1 | AD12: 1 | AK12: 1
B13: 2 | I13: 2 | P13: 2 | W13: 2 | AD13: 2 | AK13: 2
A14: 0.36458333 | B14: 3 | H14: 0.36458333 | I14: 3 | O14: 0.36458333 | P14: 3 | V14: 0.36458333 | W14: 3 | AC14: 0.36458333 | AD14: 3 | AJ14: 0.36458333 | AK14: 3
B15: 4 | I15: 4 | P15: 4 | W15: 4 | AD15: 4 | AK15: 4
B16: 5 | I16: 5 | P16: 5 | W16: 5 | AD16: 5 | AK16: 5
B17: 6 | I17: 6 | P17: 6 | W17: 6 | AD17: 6 | AK17: 6
B19: 1 | I19: 1 | P19: 1 | W19: 1 | AD19: 1 | AK19: 1
B20: 2 | I20: 2 | P20: 2 | W20: 2 | AD20: 2 | AK20: 2
A21: 0.39583333 | B21: 3 | H21: 0.39583333 | I21: 3 | O21: 0.39583333 | P21: 3 | V21: 0.39583333 | W21: 3 | AC21: 0.39583333 | AD21: 3 | AJ21: 0.39583333 | AK21: 3
B22: 4 | I22: 4 | P22: 4 | W22: 4 | AD22: 4 | AK22: 4
B23: 5 | I23: 5 | P23: 5 | W23: 5 | AD23: 5 | AK23: 5
B24: 6 | I24: 6 | P24: 6 | W24: 6 | AD24: 6 | AK24: 6
B26: 1 | I26: 1 | P26: 1 | W26: 1 | AD26: 1 | AK26: 1
B27: 2 | I27: 2 | P27: 2 | W27: 2 | AD27: 2 | AK27: 2
A28: 0.42708333 | B28: 3 | H28: 0.42708333 | I28: 3 | O28: 0.42708333 | P28: 3 | V28: 0.42708333 | W28: 3 | AC28: 0.42708333 | AD28: 3 | AJ28: 0.42708333 | AK28: 3
B29: 4 | I29: 4 | P29: 4 | W29: 4 | AD29: 4 | AK29: 4
B30: 5 | I30: 5 | P30: 5 | W30: 5 | AD30: 5 | AK30: 5
B31: 6 | I31: 6 | P31: 6 | W31: 6 | AD31: 6 | AK31: 6
B33: 1 | I33: 1 | P33: 1 | W33: 1 | AD33: 1 | AK33: 1
B34: 2 | I34: 2 | P34: 2 | W34: 2 | AD34: 2 | AK34: 2
A35: 0.45833333 | B35: 3 | H35: 0.45833333 | I35: 3 | O35: 0.45833333 | P35: 3 | V35: 0.45833333 | W35: 3 | AC35: 0.45833333 | AD35: 3 | AJ35: 0.45833333 | AK35: 3
B36: 4 | I36: 4 | P36: 4 | W36: 4 | AD36: 4 | AK36: 4
B37: 5 | I37: 5 | P37: 5 | W37: 5 | AD37: 5 | AK37: 5
B38: 6 | I38: 6 | P38: 6 | W38: 6 | AD38: 6 | AK38: 6
B40: 1 | I40: 1 | P40: 1 | W40: 1 | AD40: 1 | AK40: 1
B41: 2 | I41: 2 | P41: 2 | W41: 2 | AD41: 2 | AK41: 2
A42: 0.48958333 | B42: 3 | H42: 0.48958333 | I42: 3 | O42: 0.48958333 | P42: 3 | V42: 0.48958333 | W42: 3 | AC42: 0.48958333 | AD42: 3 | AJ42: 0.48958333 | AK42: 3
B43: 4 | I43: 4 | P43: 4 | W43: 4 | AD43: 4 | AK43: 4
B44: 5 | I44: 5 | P44: 5 | W44: 5 | AD44: 5 | AK44: 5
B45: 6 | I45: 6 | P45: 6 | W45: 6 | AD45: 6 | AK45: 6
...

Sheet Squadding
B1: Use this sheet to put squads together before putting squads on time sheets for disciplines. Copy name info from Registered shooter sheet. | T1: Spreadsheet only holds 252 shooters. It must be modified to hold more.
C2: Shooter not shooting all events
C3: AM skeet
C4: PM skeet
A6: Nbr | B6: School | C6: First | D6: Last | E6: Grade | F6: Gender | G6: Division | H6: Nbr | I6: School | J6: First | K6: Last | L6: Grade | M6: Gender | N6: Division | O6: Nbr | P6: School | Q6: First | R6: Last | S6: Grade | T6: Gender | U6: Division | V6: Nbr | W6: School | X6: First | Y6: Last | Z6: Grade | AA6: Gender | AB6: Division | AC6: Nbr | AD6: School | AE6: First | AF6: Last | AG6: Grade | AH6: Gender | AI6: Division
B7: A | I7: B | P7: C | W7: D | AD7: E
A8: 1 | H8: 1 | O8: 1 | V8: 1 | AC8: 1
A9: 2 | H9: 2 | O9: 2 | V9: 2 | AC9: 2
A10: 3 | H10: 3 | O10: 3 | V10: 3 | AC10: 3
A11: 4 | H11: 4 | O11: 4 | V11: 4 | AC11: 4
A12: 5 | H12: 5 | O12: 5 | V12: 5 | AC12: 5
A13: 6 | H13: 6 | O13: 6 | V13: 6 | AC13: 6
B15: F | I15: G | P15: H | W15: I | AD15: J
A16: 1 | H16: 1 | O16: 1 | V16: 1 | AC16: 1
A17: 2 | H17: 2 | O17: 2 | V17: 2 | AC17: 2
A18: 3 | H18: 3 | O18: 3 | V18: 3 | AC18: 3
A19: 4 | H19: 4 | O19: 4 | V19: 4 | AC19: 4
A20: 5 | H20: 5 | O20: 5 | V20: 5 | AC20: 5
A21: 6 | H21: 6 | O21: 6 | V21: 6 | AC21: 6
B23: K | I23: L | P23: M | W23: N | AD23: O
A24: 1 | H24: 1 | O24: 1 | V24: 1 | AC24: 1
A25: 2 | H25: 2 | O25: 2 | V25: 2 | AC25: 2
A26: 3 | H26: 3 | O26: 3 | V26: 3 | AC26: 3
A27: 4 | H27: 4 | O27: 4 | V27: 4 | AC27: 4
A28: 5 | H28: 5 | O28: 5 | V28: 5 | AC28: 5
A29: 6 | H29: 6 | O29: 6 | V29: 6 | AC29: 6
B31: P | I31: Q | P31: R | W31: S | AD31: T
A32: 1 | H32: 1 | O32: 1 | V32: 1 | AC32: 1
A33: 2 | H33: 2 | O33: 2 | V33: 2 | AC33: 2
A34: 3 | H34: 3 | O34: 3 | V34: 3 | AC34: 3
A35: 4 | H35: 4 | O35: 4 | V35: 4 | AC35: 4
A36: 5 | H36: 5 | O36: 5 | V36: 5 | AC36: 5
A37: 6 | H37: 6 | O37: 6 | V37: 6 | AC37: 6
B39: U | I39: V | P39: W | W39: X | AD39: Y
A40: 1 | H40: 1 | O40: 1 | V40: 1 | AC40: 1
A41: 2 | H41: 2 | O41: 2 | V41: 2 | AC41: 2
A42: 3 | H42: 3 | O42: 3 | V42: 3 | AC42: 3
A43: 4 | H43: 4 | O43: 4 | V43: 4 | AC43: 4
A44: 5 | H44: 5 | O44: 5 | V44: 5 | AC44: 5
A45: 6 | H45: 6 | O45: 6 | V45: 6 | AC45: 6
...
